BEGIN:VCALENDAR
VERSION:2.0
PRODID:-//Squarespace Inc/Squarespace 6//v6//EN
BEGIN:VEVENT
UID:55f8b2a7e4b0057ea3f840ca@squarespace.com
DTSTAMP:20150924T223131Z
DTSTART:20151013T063000Z
DTEND:20151013T093000Z
SUMMARY:Jenny B with the Craig Williams Quartet
GEO:-36.869691;174.712441
LOCATION:Pt Chevalier RSA\, 1136 Great North Road\, Auckland\, Auckland\, 1
 022\, New Zealand
END:VEVENT
END:VCALENDAR
