BEGIN:VCALENDAR
VERSION:2.0
PRODID:-//Squarespace Inc/Squarespace 6//v6//EN
BEGIN:VEVENT
UID:55fa00bfe4b0bf9efb9b315e@squarespace.com
DTSTAMP:20150924T223313Z
DTSTART:20151020T063000Z
DTEND:20151020T093000Z
SUMMARY:Tessa Quale
GEO:-36.869691;174.712441
LOCATION:Pt Chevallier RSA\, 1136 Great North Road\, Pt Chevallier\, Auckla
 nd\, 1022\, New Zealand
END:VEVENT
END:VCALENDAR
