BEGIN:VCALENDAR
VERSION:2.0
PRODID:-//Squarespace Inc/Squarespace 6//v6//EN
BEGIN:VEVENT
UID:5600d90ae4b0efdfbba9887a@squarespace.com
DTSTAMP:20150924T223511Z
DTSTART:20151027T063000Z
DTEND:20151027T093000Z
SUMMARY:New Zealand School of Music Jazz Ensembles
GEO:-36.86993;174.712659
LOCATION:Pt Chevallier RSA\, 1136 Great North Road\, Pt Chevallier\, Auckla
 nd\, New Zealand
END:VEVENT
END:VCALENDAR
