BEGIN:VCALENDAR
VERSION:2.0
PRODID:-//Squarespace Inc/Squarespace 6//v6//EN
BEGIN:VEVENT
UID:55f8b144e4b0fcc8b9d4e541@squarespace.com
DTSTAMP:20150924T222713Z
DTSTART:20151006T063000Z
DTEND:20151006T093000Z
SUMMARY:Paul Nairn and Phantom Quartet
GEO:-36.869691;174.712441
LOCATION:Pt Chevalier RSA\, 1136 Great North Road\, Auckland\, Auckland\, 1
 022\, New Zealand
END:VEVENT
END:VCALENDAR
