BEGIN:VCALENDAR
VERSION:2.0
PRODID:-//Squarespace Inc/Squarespace 6//v6//EN
BEGIN:VEVENT
UID:563017e8e4b09cb454d8165e@squarespace.com
DTSTAMP:20151028T003903Z
DTSTART:20151110T063000Z
DTEND:20151110T090000Z
SUMMARY:Caitlin Smith
GEO:-36.869691;174.712441
LOCATION:Pt Chevalier RSA\, 1136 Great North Road\, Pt Chevalier \, Aucklan
 d\, 1022\, New Zealand
END:VEVENT
END:VCALENDAR
