BEGIN:VCALENDAR
VERSION:2.0
PRODID:-//Squarespace Inc/Squarespace 6//v6//EN
BEGIN:VEVENT
UID:564517e5e4b00a3ec7d13935@squarespace.com
DTSTAMP:20151112T231316Z
DTSTART:20160126T063000Z
DTEND:20160126T093000Z
SUMMARY:Dan Bolton (USA)
GEO:-36.86993;174.712659
LOCATION:Pt Chevalier RSA\, 1136 Great North Road\, Pt Chavalier\, Auckland
 \, 1022\, New Zealand
END:VEVENT
END:VCALENDAR
