BEGIN:VCALENDAR
VERSION:2.0
PRODID:-//Squarespace Inc/Squarespace 6//v6//EN
BEGIN:VEVENT
UID:5600daa0e4b0451b20c9f7b1@squarespace.com
DTSTAMP:20151014T213616Z
DTSTART:20151117T063000Z
DTEND:20151117T093000Z
SUMMARY:The Hipstamatics
GEO:-36.869691;174.712441
LOCATION:Pt Chevallier RSA\, 1136 Great North Road\, Pt Chevallier\, Auckla
 nd\, 1022\, New Zealand
END:VEVENT
END:VCALENDAR
