BEGIN:VCALENDAR
VERSION:2.0
PRODID:-//Squarespace Inc/Squarespace 6//v6//EN
BEGIN:VEVENT
UID:56159719e4b0b3486aaf66db@squarespace.com
DTSTAMP:20151014T213709Z
DTSTART:20151124T063000Z
DTEND:20151124T090000Z
SUMMARY:Tom Rodwell
GEO:-36.869691;174.712441
LOCATION:Pt Chevalier RSA\, 1136 Great North Road\, Pt Chevalier\, Auckland
 \, 1022\, New Zealand
END:VEVENT
END:VCALENDAR
