BEGIN:VCALENDAR
VERSION:2.0
PRODID:-//Squarespace Inc/Squarespace 6//v6//EN
BEGIN:VEVENT
UID:561ec8a9e4b0649461e081ba@squarespace.com
DTSTAMP:20151014T213507Z
DTSTART:20151103T063000Z
DTEND:20151103T090000Z
SUMMARY:Queen City Big Band with The New Zealand School of Music's New face
 s
GEO:-36.869691;174.712441
LOCATION:Pt Chevallier RSA\, 1136 Great North Road\, Pt Chevallier Auckland
 \, New Zealand
END:VEVENT
END:VCALENDAR
