BEGIN:VCALENDAR
VERSION:2.0
PRODID:-//Squarespace Inc/Squarespace 6//v6//EN
BEGIN:VEVENT
UID:5625777be4b063ee061150db@squarespace.com
DTSTAMP:20151020T204406Z
DTSTART:20151201T063000Z
DTEND:20151201T090000Z
SUMMARY:Bridge City Jazzmen
GEO:-36.869691;174.712441
LOCATION:Pt Chevalier RSA\, 1136 Gt North Rd\, Pt Chevalier\, Auckland\, Ne
 w Zealand
END:VEVENT
END:VCALENDAR
