BEGIN:VCALENDAR
VERSION:2.0
PRODID:-//Squarespace Inc/Squarespace 6//v6//EN
BEGIN:VEVENT
UID:56301955e4b0ab11519c602e@squarespace.com
DTSTAMP:20151028T004517Z
DTSTART:20151215T063000Z
DTEND:20151215T093000Z
SUMMARY:Queen City Big Band Christmas Special
GEO:-36.869691;174.712441
LOCATION:Point Chevalier RSA\, 1136 Great North Road\, Pt Chevalier\, Auckl
 and\, 1022\, New Zealand
END:VEVENT
END:VCALENDAR
