BEGIN:VCALENDAR
VERSION:2.0
PRODID:-//Squarespace Inc/Squarespace 6//v6//EN
BEGIN:VEVENT
UID:5645132ce4b0cf1b377fffa7@squarespace.com
DTSTAMP:20151112T224339Z
DTSTART:20151208T063000Z
DTEND:20151208T093000Z
SUMMARY:Lynfield & Rangitoto College Jazz Bands
GEO:-36.86993;174.712659
LOCATION:Pt Chevalier RSA\, 1136 Great North Road\, Pt Chevalier\, Auckland
 \, 1022\, New Zealand
END:VEVENT
END:VCALENDAR
