BEGIN:VCALENDAR
VERSION:2.0
PRODID:-//Squarespace Inc/Squarespace 6//v6//EN
BEGIN:VEVENT
UID:56451669e4b0e66154da6294@squarespace.com
DTSTAMP:20151112T231335Z
DTSTART:20160119T063000Z
DTEND:20160119T093000Z
SUMMARY:The Squeezebox Trio (Aust)
GEO:-36.86993;174.712659
LOCATION:Pt Chevalier RSA\, 1136 Great North Road\, Pt Chevalier\, Auckland
 \, 1022\, New Zealand
END:VEVENT
END:VCALENDAR
