BEGIN:VCALENDAR
VERSION:2.0
PRODID:-//Squarespace Inc/Squarespace 6//v6//EN
BEGIN:VEVENT
UID:587d498b6a49639f18172c7b@squarespace.com
DTSTAMP:20170116T223617Z
DTSTART:20170207T063000Z
DTEND:20170207T090000Z
SUMMARY:John Leigh Calder
GEO:-36.869691;174.712441
LOCATION:Point Chevalier RSA\, 1136 Great North Road\, Auckland\, Auckland\
 , 1022\, New Zealand
END:VEVENT
END:VCALENDAR
