BEGIN:VCALENDAR
VERSION:2.0
PRODID:-//Squarespace Inc/Squarespace 6//v6//EN
BEGIN:VEVENT
UID:5ba9a3b4085229e608f2ff48@squarespace.com
DTSTAMP:20180925T030033Z
DTSTART:20181009T063000Z
DTEND:20181009T090000Z
SUMMARY:Andrew London Trio
GEO:-36.869691;174.712441
LOCATION:Point Chevalier RSA\, 1136 Great North Road\, Auckland\, Auckland\
 , 1022\, New Zealand
END:VEVENT
END:VCALENDAR
