BEGIN:VCALENDAR
VERSION:2.0
PRODID:-//Squarespace Inc/Squarespace 6//v6//EN
BEGIN:VEVENT
UID:5bb6b596e5e5f07c52987bf2@squarespace.com
DTSTAMP:20181005T025309Z
DTSTART:20181120T063000Z
DTEND:20181120T090000Z
SUMMARY:Roger Manins standards
GEO:-36.869691;174.712441
LOCATION:Point Chevalier RSA\, 1136 Great North Road\, Auckland\, Auckland\
 , 1022\, New Zealand
END:VEVENT
END:VCALENDAR
