BEGIN:VCALENDAR
VERSION:2.0
PRODID:-//Squarespace Inc/Squarespace 6//v6//EN
BEGIN:VEVENT
UID:5bb6b3c5e2c483087693a074@squarespace.com
DTSTAMP:20181005T004601Z
DTSTART:20181127T063000Z
DTEND:20181127T090000Z
SUMMARY:Kylie Todd
GEO:-36.869691;174.712441
LOCATION:Point Chevalier RSA\, 1136 Great North Road\, Auckland\, Auckland\
 , 1022\, New Zealand
END:VEVENT
END:VCALENDAR
