BEGIN:VCALENDAR
VERSION:2.0
PRODID:-//Squarespace Inc/Squarespace 6//v6//EN
BEGIN:VEVENT
UID:5bf354086d2a7337b64659c9@squarespace.com
DTSTAMP:20181120T002730Z
DTSTART:20181211T063000Z
DTEND:20181211T090000Z
SUMMARY:LA LUNA &amp\; THE GADJOS
GEO:-36.869691;174.712441
LOCATION:Point Chevalier RSA\, 1136 Great North Road\, Auckland\, Auckland\
 , 1022\, New Zealand
END:VEVENT
END:VCALENDAR
