BEGIN:VCALENDAR
VERSION:2.0
PRODID:-//Squarespace Inc/Squarespace 6//v6//EN
BEGIN:VEVENT
UID:5bf352b621c67c5d5773b94b@squarespace.com
DTSTAMP:20181120T002135Z
DTSTART:20181218T063000Z
DTEND:20181218T090000Z
SUMMARY:Queen City Big Band Christmas Special
GEO:-36.869691;174.712441
LOCATION:Point Chevalier RSA\, 1136 Great North Road\, Auckland\, Auckland\
 , 1022\, New Zealand
END:VEVENT
END:VCALENDAR
