BEGIN:VCALENDAR
VERSION:2.0
PRODID:-//Squarespace Inc/Squarespace 6//v6//EN
BEGIN:VEVENT
UID:5ae8f2f4aa4a99dacb9b4aa0@squarespace.com
DTSTAMP:20180610T225932Z
DTSTART:20180724T073000Z
DTEND:20180724T100000Z
SUMMARY:MARIA O’FLAHERTY & BEN FERNANDEZ QUARTET
GEO:-36.86993;174.712659
LOCATION:Point Chevalier RSA\, 1136 Great North Road\, Auckland\, Auckland\
 , 1022\, New Zealand
END:VEVENT
END:VCALENDAR
