BEGIN:VCALENDAR
VERSION:2.0
PRODID:-//Squarespace Inc/Squarespace 6//v6//EN
BEGIN:VEVENT
UID:5b54f8d02b6a280bdee4872e@squarespace.com
DTSTAMP:20180724T215904Z
DTSTART:20180727T230000Z
DTEND:20180728T043000Z
SUMMARY:School Jazz band Competition Heat 1
GEO:-36.869691;174.712441
LOCATION:point chevalier RSA\, 1136 Great North Road\, Auckland\, Auckland\
 , 1022\, New Zealand
END:VEVENT
END:VCALENDAR
