BEGIN:VCALENDAR
VERSION:2.0
PRODID:-//Squarespace Inc/Squarespace 6//v6//EN
BEGIN:VEVENT
UID:5b54f95faa4a995f7a9a6bcc@squarespace.com
DTSTAMP:20180724T215748Z
DTSTART:20180728T230000Z
DTEND:20180729T050000Z
SUMMARY:School Jazz Band Competition Heat 2
GEO:-36.869691;174.712441
LOCATION:Point Chevalier RSA\, 1136 Great North Road\, Auckland\, Auckland\
 , 1022\, New Zealand
END:VEVENT
END:VCALENDAR
