BEGIN:VCALENDAR
VERSION:2.0
PRODID:-//Squarespace Inc/Squarespace 6//v6//EN
BEGIN:VEVENT
UID:5b54faac8a922d868ef54360@squarespace.com
DTSTAMP:20180805T211710Z
DTSTART:20180811T010000Z
DTEND:20180812T050000Z
SUMMARY:School Jazz Band Competition Finals
GEO:-36.869691;174.712441
LOCATION:Point Chevalier RSA\, 1136 Great North Road\, Auckland\, Auckland\
 , 1022\, New Zealand
END:VEVENT
END:VCALENDAR
