BEGIN:VCALENDAR
VERSION:2.0
PRODID:-//Squarespace Inc/Squarespace 6//v6//EN
BEGIN:VEVENT
UID:5b54f9bc562fa7375401badd@squarespace.com
DTSTAMP:20180724T215803Z
DTSTART:20180803T230000Z
DTEND:20180804T050000Z
SUMMARY:School Jazz band Competition Heat 3
END:VEVENT
END:VCALENDAR
