BEGIN:VCALENDAR
VERSION:2.0
PRODID:-//Squarespace Inc/Squarespace 6//v6//EN
BEGIN:VEVENT
UID:5b54f9fc575d1f8f7c02b778@squarespace.com
DTSTAMP:20180724T215816Z
DTSTART:20180804T230000Z
DTEND:20180805T040000Z
SUMMARY:School Jazz Band Competition Heat 4
GEO:-36.869691;174.712441
LOCATION:Point Chavalier RSA\, 1136 Great North Road\, Auckland\, Auckland\
 , 1022\, New Zealand
END:VEVENT
END:VCALENDAR
