BEGIN:VCALENDAR
VERSION:2.0
PRODID:-//Squarespace Inc/Squarespace 6//v6//EN
BEGIN:VEVENT
UID:5c1829d7032be420904048c4@squarespace.com
DTSTAMP:20181217T230409Z
DTSTART:20190122T063000Z
DTEND:20190122T090000Z
SUMMARY:Joy Yates and Dave MacRae
GEO:-36.869691;174.712441
LOCATION:Point Chevalier RSA\, 1136 Great North Road\, Auckland\, Auckland\
 , 1022\, New Zealand
END:VEVENT
END:VCALENDAR
