BEGIN:VCALENDAR
VERSION:2.0
PRODID:-//Squarespace Inc/Squarespace 6//v6//EN
BEGIN:VEVENT
UID:5c182ba84fa51ae1a81bf29a@squarespace.com
DTSTAMP:20181217T230945Z
DTSTART:20190129T063000Z
DTEND:20190129T090000Z
SUMMARY:Twistin’ the Swing
GEO:-36.869691;174.712441
LOCATION:Point Cevalier RSA\, 1136 Great North Road\, Auckland\, Auckland\, 
 1022\, New Zealand
END:VEVENT
END:VCALENDAR
