BEGIN:VCALENDAR
VERSION:2.0
PRODID:-//Squarespace Inc/Squarespace 6//v6//EN
BEGIN:VEVENT
UID:5b207e45f950b75281f8bfcd@squarespace.com
DTSTAMP:20180716T030000Z
DTSTART:20180731T073000Z
DTEND:20180731T100000Z
SUMMARY:A Night in New Orleans
GEO:-36.86993;174.712659
LOCATION:Point Chevalier RSA\, 1136 Great North Road\, Auckland\, Auckland\
 , 1022\, New Zealand
END:VEVENT
END:VCALENDAR
