BEGIN:VCALENDAR
VERSION:2.0
PRODID:-//Squarespace Inc/Squarespace 6//v6//EN
BEGIN:VEVENT
UID:5b038537575d1f9eea1793fb@squarespace.com
DTSTAMP:20180522T030845Z
DTSTART:20180703T073000Z
DTEND:20180703T100000Z
SUMMARY:Allana Goldsmith
GEO:-36.869691;174.712441
LOCATION:Pt Chevalier RSA\, 1136 Great North Road\, Auckland\, Auckland\, 1
 022\, New Zealand
END:VEVENT
END:VCALENDAR
