BEGIN:VCALENDAR
VERSION:2.0
PRODID:-//Squarespace Inc/Squarespace 6//v6//EN
BEGIN:VEVENT
UID:5b8f19b20e2e72196152ab23@squarespace.com
DTSTAMP:20180926T222959Z
DTSTART:20181106T063000Z
DTEND:20181106T090000Z
SUMMARY:Edwina Thorne
GEO:-36.869691;174.712441
LOCATION:Point Chevalier RSA\, 1136 Great North Road\, Auckland\, Auckland\
 , 1022\, New Zealand
END:VEVENT
END:VCALENDAR
