BEGIN:VCALENDAR
VERSION:2.0
PRODID:-//Squarespace Inc/Squarespace 6//v6//EN
BEGIN:VEVENT
UID:5b21e18303ce6459ac4ba70f@squarespace.com
DTSTAMP:20180703T212421Z
DTSTART:20180710T073000Z
DTEND:20180710T100000Z
SUMMARY:In The Mix
GEO:-36.86993;174.712659
LOCATION:Point Chevalier RSA\, 1136 Great North Road\, Auckland\, Auckland\
 , 1022\, New Zealand
END:VEVENT
END:VCALENDAR
