BEGIN:VCALENDAR
VERSION:2.0
PRODID:-//Squarespace Inc/Squarespace 6//v6//EN
BEGIN:VEVENT
UID:5afa53238a922de87d029fb4@squarespace.com
DTSTAMP:20180625T043300Z
DTSTART:20180626T073000Z
DTEND:20180626T100000Z
SUMMARY:Jari Perkiömäki 
GEO:-36.86993;174.712659
LOCATION:Point Chevalier RSA\, 1136 Great North Road\, Auckland\, Auckland\
 , 1022\, New Zealand
END:VEVENT
END:VCALENDAR
