BEGIN:VCALENDAR
VERSION:2.0
PRODID:-//Squarespace Inc/Squarespace 6//v6//EN
BEGIN:VEVENT
UID:5b2088fd0e2e72c2ed6d6406@squarespace.com
DTSTAMP:20180620T220610Z
DTSTART:20180717T073000Z
DTEND:20180717T100000Z
SUMMARY:Merv Thomas Birthday Bash
GEO:-36.869691;174.712441
LOCATION:point chevalier rsa\, 1136 Great North Road\, Auckland\, Auckland\
 , 1022\, New Zealand
END:VEVENT
END:VCALENDAR
