BEGIN:VCALENDAR
VERSION:2.0
PRODID:-//Squarespace Inc/Squarespace 6//v6//EN
BEGIN:VEVENT
UID:5b67c380aa4a99f211da1673@squarespace.com
DTSTAMP:20180905T000719Z
DTSTART:20180925T073000Z
DTEND:20180925T100000Z
SUMMARY:Next Offramp  Plus The Lindy Tops
GEO:-36.869691;174.712441
LOCATION:Point Chevalier RSA\, 1136 Great North Road\, Auckland\, Auckland\
 , 1022\, New Zealand
END:VEVENT
END:VCALENDAR
