BEGIN:VCALENDAR
VERSION:2.0
PRODID:-//Squarespace Inc/Squarespace 6//v6//EN
BEGIN:VEVENT
UID:5b4ffc6cf950b763cde363f8@squarespace.com
DTSTAMP:20180719T025448Z
DTSTART:20180828T073000Z
DTEND:20180828T100000Z
SUMMARY:Phil Broadhurst Quintet
GEO:-36.869691;174.712441
LOCATION:Point Chevalier RSA\, 1136 Great North Road\, Auckland\, Auckland\
 , 1022\, New Zealand
END:VEVENT
END:VCALENDAR
