BEGIN:VCALENDAR
VERSION:2.0
PRODID:-//Squarespace Inc/Squarespace 6//v6//EN
BEGIN:VEVENT
UID:5b456fc9aa4a99336fb30a43@squarespace.com
DTSTAMP:20180711T025145Z
DTSTART:20181030T063000Z
DTEND:20181030T090000Z
SUMMARY:Steve Sheriff Sextet
GEO:-36.86993;174.712659
LOCATION:Point Chevalier RSA\, 1136 Great North Road\, Auckland\, Auckland\
 , 1022\, New Zealand
END:VEVENT
END:VCALENDAR
