BEGIN:VCALENDAR
VERSION:2.0
PRODID:-//Squarespace Inc/Squarespace 6//v6//EN
BEGIN:VEVENT
UID:5b4ff8dd6d2a735162173640@squarespace.com
DTSTAMP:20180719T024151Z
DTSTART:20180814T073000Z
DTEND:20180814T100000Z
SUMMARY:Suzanne Lynch
GEO:-36.869691;174.712441
LOCATION:point chevalier rsa\, 1136 Great North Road\, Auckland\, Auckland\
 , 1022\, New Zealand
END:VEVENT
END:VCALENDAR
