BEGIN:VCALENDAR
VERSION:2.0
PRODID:-//Squarespace Inc/Squarespace 6//v6//EN
BEGIN:VEVENT
UID:5b038410575d1f9eea176a04@squarespace.com
DTSTAMP:20180614T012020Z
DTSTART:20180619T073000Z
DTEND:20180619T100000Z
SUMMARY:The Piano Women
GEO:-36.869691;174.712441
LOCATION:Pt Chevalier RSA\, 1136 Great North Road\, Auckland\, Auckland\, 1
 022\, New Zealand
END:VEVENT
END:VCALENDAR
