BEGIN:VCALENDAR
VERSION:2.0
PRODID:-//Squarespace Inc/Squarespace 6//v6//EN
BEGIN:VEVENT
UID:5b3c333b03ce6479dfc4c7c7@squarespace.com
DTSTAMP:20180704T033546Z
DTSTART:20180807T073000Z
DTEND:20180807T100000Z
SUMMARY:Toni Swain 
GEO:-36.86993;174.712659
LOCATION:pt chevalier rsa\, 1136 Great North Road\, Auckland\, Auckland\, 1
 022\, New Zealand
END:VEVENT
END:VCALENDAR
