BEGIN:VCALENDAR
VERSION:2.0
PRODID:-//Squarespace Inc/Squarespace 6//v6//EN
BEGIN:VEVENT
UID:5b74b5318a922d2a2456a23d@squarespace.com
DTSTAMP:20180815T232600Z
DTSTART:20180904T073000Z
DTEND:20180904T100000Z
SUMMARY:Tuxedo Swing Orchestra
GEO:-36.869691;174.712441
LOCATION:Point Chevalier RSA\, 1136 Great North Road\, Auckland\, Auckland\
 , 1022\, New Zealand
END:VEVENT
END:VCALENDAR
