BEGIN:VCALENDAR
VERSION:2.0
PRODID:-//Squarespace Inc/Squarespace 6//v6//EN
BEGIN:VEVENT
UID:587d4b02db29d66876cf54d3@squarespace.com
DTSTAMP:20170116T224354Z
DTSTART:20170328T063000Z
DTEND:20170328T090000Z
SUMMARY:Vibeke Voller and Dan Papirany 
GEO:-36.869691;174.712441
LOCATION:Point Chevalier RSA\, 1136 Great North Road\, Auckland\, Auckland\
 , 1022\, New Zealand
END:VEVENT
END:VCALENDAR
