BEGIN:VCALENDAR
VERSION:2.0
PRODID:-//Squarespace Inc/Squarespace 6//v6//EN
BEGIN:VEVENT
UID:5b55471e6d2a73038b85cd65@squarespace.com
DTSTAMP:20180723T031417Z
DTSTART:20180821T073000Z
DTEND:20180821T100000Z
SUMMARY:Vox Nova
GEO:-36.869691;174.712441
LOCATION:Point Chvalier RSA\, 1136 Great North Road\, Auckland\, Auckland\, 
 1022\, New Zealand
END:VEVENT
END:VCALENDAR
